BEGIN:VCALENDAR
VERSION:2.0
CALSCALE:GREGORIAN
PRODID:-//Diputació de Barcelona//DibaCMS//EN
BEGIN:VEVENT
UID:21696
DTSTAMP:20260424T152534
DTSTART:20260424T000000
DTEND:20270424T000000
SUMMARY:El Departament de Promoció Econòmica ha posat en marxa un nou curs bàsic d’atenció a la gent gran, centrat en l’àmbit de les cures i l’atenció directa a les persones grans.
LOCATION:
METHOD:PUBLISH
X-WR-CALNAME:sentmenat@sentmenat.cat
X-WR-TIMEZONE:Europe/Madrid
DESCRIPTION:Aquesta formació està adreçada principalment a persones en situació d’atur, amb l’objectiu de millorar les seves competències professionals i afavorir la seva inserció al mercat laboral en un sector amb demanda creixent de professionals.

URI:https://www.sentmenat.cat/actualitat/noticies/eldepartament-de-promocio-economica-ha-posat-en-marxa-un-nou-curs-basic-datencio-a-la-gent-gran-centrat-en-lambit-de-les-cures-i-latencio-directa-a-les-persones-grans.html
CLASS:PUBLIC
END:VEVENT
END:VCALENDAR
