BEGIN:VCALENDAR
VERSION:2.0
CALSCALE:GREGORIAN
PRODID:-//Diputació de Barcelona//DibaCMS//EN
BEGIN:VEVENT
UID:21695
DTSTAMP:20260424T121953
DTSTART:20260424T090000
DTEND:20270424T000000
SUMMARY:La biblioteca celebra la 27a edició del concurs de punts de llibre per Sant Jordi amb la intel·ligència artificial com a protagonista
LOCATION:
METHOD:PUBLISH
X-WR-CALNAME:sentmenat@sentmenat.cat
X-WR-TIMEZONE:Europe/Madrid
DESCRIPTION:La biblioteca municipal ha tornat a impulsar, un any més coincidint amb la diada de Sant Jordi, el tradicional concurs de punts de llibre, una iniciativa oberta a tota la població que ja suma 27 edicions.

URI:https://www.sentmenat.cat/actualitat/noticies/la-biblioteca-celebra-la-27a-edicio-del-concurs-de-punts-de-llibre-per-sant-jordi-amb-la-intelligencia-artificial-com-a-protagonista.html
CLASS:PUBLIC
END:VEVENT
END:VCALENDAR
