BEGIN:VCALENDAR
VERSION:2.0
CALSCALE:GREGORIAN
PRODID:-//Diputació de Barcelona//DibaCMS//EN
BEGIN:VEVENT
UID:21694
DTSTAMP:20260423T153422
DTSTART:20260423T000000
DTEND:20270423T000000
SUMMARY:Els infants de Sentmenat viuen la llegenda de Sant Jordi amb representacions teatrals pels carrers del municipi
LOCATION:
METHOD:PUBLISH
X-WR-CALNAME:sentmenat@sentmenat.cat
X-WR-TIMEZONE:Europe/Madrid
DESCRIPTION:Aquest matí, els nens i nenes de Sentmenat han gaudit d’una jornada molt especial per celebrar la Diada de Sant Jordi. Els infants han pogut conèixer la història de Sant Jordi des de dins assistint a diverses representacions teatrals organitzades en diferents espais del municipi.

URI:https://www.sentmenat.cat/actualitat/noticies/els-infants-de-sentmenat-viuen-la-llegenda-de-sant-jordi-amb-representacions-teatrals-pels-carrers-del-municipi.html
CLASS:PUBLIC
END:VEVENT
END:VCALENDAR
