BEGIN:VCALENDAR
VERSION:2.0
CALSCALE:GREGORIAN
PRODID:-//Diputació de Barcelona//DibaCMS//EN
BEGIN:VEVENT
UID:21693
DTSTAMP:20260422T134843
DTSTART:20260422T000000
DTEND:20270422T000000
SUMMARY:La Biblioteca Frederic Alfonso i Orfila és un espai clau de vida comunitària a Sentmenat
LOCATION:
METHOD:PUBLISH
X-WR-CALNAME:sentmenat@sentmenat.cat
X-WR-TIMEZONE:Europe/Madrid
DESCRIPTION:La Biblioteca Frederic Alfonso i Orfila continua consolidant-se com un equipament clau per a la vida cultural, educativa i social de Sentmenat. Més enllà del servei de préstec, la biblioteca s’ha convertit en un espai de trobada, aprenentatge i convivència obert a tota la ciutadania.

URI:https://www.sentmenat.cat/actualitat/noticies/la-biblioteca-frederic-alfonso-i-orfila-es-un-espai-clau-de-vida-comunitaria-a-sentmenat.html
CLASS:PUBLIC
END:VEVENT
END:VCALENDAR
