BEGIN:VCALENDAR
VERSION:2.0
CALSCALE:GREGORIAN
PRODID:-//Diputació de Barcelona//DibaCMS//EN
BEGIN:VEVENT
UID:21692
DTSTAMP:20260421T182903
DTSTART:20260421T000000
DTEND:20270421T000000
SUMMARY:Agermanament entre Sentmenat i Olvera
LOCATION:
METHOD:PUBLISH
X-WR-CALNAME:sentmenat@sentmenat.cat
X-WR-TIMEZONE:Europe/Madrid
DESCRIPTION:L’Ajuntament de Sentmenat valora molt positivament la primera trobada institucional amb el municipi agermanat d’Olvera, celebrada en el marc de la seva tradicional Romeria del Lunes de Quasimodo.

URI:https://www.sentmenat.cat/actualitat/noticies/agermanament-entre-sentmenat-i-olvera.html
CLASS:PUBLIC
END:VEVENT
END:VCALENDAR
