BEGIN:VCALENDAR
VERSION:2.0
CALSCALE:GREGORIAN
PRODID:-//Diputació de Barcelona//DibaCMS//EN
BEGIN:VEVENT
UID:21691
DTSTAMP:20260421T154653
DTSTART:20260421T100000
DTEND:20270421T000000
SUMMARY:Sentmenat acull amb èxit una nova edició de la Fira del Cargol amb 5.000 visitants
LOCATION:
METHOD:PUBLISH
X-WR-CALNAME:sentmenat@sentmenat.cat
X-WR-TIMEZONE:Europe/Madrid
DESCRIPTION:La XIV Fira del Cargol de Sentmenat ha tornat a consolidar-se com una de les cites gastronòmiques més destacades del Vallès, reunint aquest cap de setmana prop de 5.000 visitants.

URI:https://www.sentmenat.cat/actualitat/noticies/sentmenat-acull-amb-exit-una-nova-edicio-de-la-fira-del-cargol-amb-5000-visitants.html
CLASS:PUBLIC
END:VEVENT
END:VCALENDAR
