BEGIN:VCALENDAR
VERSION:2.0
CALSCALE:GREGORIAN
PRODID:-//Diputació de Barcelona//DibaCMS//EN
BEGIN:VEVENT
UID:21690
DTSTAMP:20260420T174052
DTSTART:20260420T000000
DTEND:20270420T000000
SUMMARY:Èxit de participació en la jornada activa per a majors de 60 anys a Sentmenat
LOCATION:
METHOD:PUBLISH
X-WR-CALNAME:sentmenat@sentmenat.cat
X-WR-TIMEZONE:Europe/Madrid
DESCRIPTION:Més d’una vintena de persones van participar el passat dissabte 11 d’abril en una jornada dedicada a la gent gran, centrada en la promoció de l’activitat física, la salut i la convivència. La iniciativa, impulsada amb l’objectiu de fomentar l’envelliment actiu, va comptar amb una gran acollida i es va desenvolupar en un ambient molt positiu i participatiu.

URI:https://www.sentmenat.cat/actualitat/noticies/exit-de-participacio-en-la-jornada-activa-per-a-majors-de-60-anys-a-sentmenat.html
CLASS:PUBLIC
END:VEVENT
END:VCALENDAR
