BEGIN:VCALENDAR
VERSION:2.0
CALSCALE:GREGORIAN
PRODID:-//Diputació de Barcelona//DibaCMS//EN
BEGIN:VEVENT
UID:21689
DTSTAMP:20260420T180109
DTSTART:20260420T000000
DTEND:20270420T000000
SUMMARY:L’Ajuntament informa sobre el procés de regularització extraordinària de persones estrangeres
LOCATION:
METHOD:PUBLISH
X-WR-CALNAME:sentmenat@sentmenat.cat
X-WR-TIMEZONE:Europe/Madrid
DESCRIPTION:L’Ajuntament de Sentmenat informa la ciutadania que ja es troba disponible el portal específic del Ministeri d’Inclusió, Seguretat Social i Migracions amb tota la informació relativa al procés de regularització extraordinària de persones estrangeres.

El Ayuntamiento de Sentmenat informa a la ciudadanía de que ya se encuentra disponible el portal específico del Ministerio de Inclusión, Seguridad Social y Migraciones con toda la información relativa al proceso de regularización extraordinaria de personas extranjeras.

URI:https://www.sentmenat.cat/actualitat/noticies/lajuntament-informa-sobre-el-proces-de-regularitzacio-extraordinaria-de-persones-estrangeres.html
CLASS:PUBLIC
END:VEVENT
END:VCALENDAR
