BEGIN:VCALENDAR
VERSION:2.0
CALSCALE:GREGORIAN
PRODID:-//Diputació de Barcelona//DibaCMS//EN
BEGIN:VEVENT
UID:21688
DTSTAMP:20260420T175133
DTSTART:20260420T000000
DTEND:20270420T000000
SUMMARY:L’Ajuntament treballa en la millora del sistema de registre del porta a porta i garanteix la recuperació de totes les dades
LOCATION:
METHOD:PUBLISH
X-WR-CALNAME:sentmenat@sentmenat.cat
X-WR-TIMEZONE:Europe/Madrid
DESCRIPTION:L’Ajuntament informa la ciutadania que, és conscient de les incidències tècniques en el sistema de comptabilització de les aportacions del servei de recollida porta a porta i que ha estat treballant per solucionar-ho.

URI:https://www.sentmenat.cat/actualitat/noticies/lajuntament-treballa-en-la-millora-del-sistema-de-registre-del-porta-a-porta-i-garanteix-la-recuperacio-de-totes-les-dades.html
CLASS:PUBLIC
END:VEVENT
END:VCALENDAR
