BEGIN:VCALENDAR
VERSION:2.0
CALSCALE:GREGORIAN
PRODID:-//Diputació de Barcelona//DibaCMS//EN
BEGIN:VEVENT
UID:21687
DTSTAMP:20260420T152243
DTSTART:20260420T000000
DTEND:20270420T000000
SUMMARY:L’Ajuntament de Sentmenat formalitza un contracte amb l’Associació Gatunades per a la gestió de les colònies felines i la gatera municipal
LOCATION:
METHOD:PUBLISH
X-WR-CALNAME:sentmenat@sentmenat.cat
X-WR-TIMEZONE:Europe/Madrid
DESCRIPTION:L’Ajuntament de Sentmenat ha formalitzat un contracte anual amb l’Associació Gatunades per a la gestió i control de les colònies felines del municipi, així com per al manteniment de la gatera municipal.

URI:https://www.sentmenat.cat/actualitat/noticies/lajuntament-de-sentmenat-formalitza-un-contracte-amb-lassociacio-gatunades-per-a-la-gestio-de-les-colonies-felines-i-la-gatera-municipal.html
CLASS:PUBLIC
END:VEVENT
END:VCALENDAR
