BEGIN:VCALENDAR
VERSION:2.0
CALSCALE:GREGORIAN
PRODID:-//Diputació de Barcelona//DibaCMS//EN
BEGIN:VEVENT
UID:21684
DTSTAMP:20260421T121331
DTSTART:20260417T080000
DTEND:20270416T000000
SUMMARY:L’alcaldessa coneix de prop el programa educatiu de l’Espai d’Art de Cal Milionari
LOCATION:
METHOD:PUBLISH
X-WR-CALNAME:sentmenat@sentmenat.cat
X-WR-TIMEZONE:Europe/Madrid
DESCRIPTION:L’alcaldessa de Sentmenat participa en una visita escolar a l’Espai d’Art de Cal Milionari, la sala d’exposicions d’art contemporani per a infants que ha iniciat la seva activitat aquest mateix curs.

URI:https://www.sentmenat.cat/actualitat/noticies/lalcaldessa-coneix-de-prop-el-programa-educatiu-de-lespai-dart-de-cal-milionari.html
CLASS:PUBLIC
END:VEVENT
END:VCALENDAR
