BEGIN:VCALENDAR
VERSION:2.0
CALSCALE:GREGORIAN
PRODID:-//Diputació de Barcelona//DibaCMS//EN
BEGIN:VEVENT
UID:21683
DTSTAMP:20260422T163434
DTSTART:20260416T000000
DTEND:20270416T000000
SUMMARY:El Diari de Sabadell fa ressò de la Fira del Cargol de Sentmenat
LOCATION:
METHOD:PUBLISH
X-WR-CALNAME:sentmenat@sentmenat.cat
X-WR-TIMEZONE:Europe/Madrid
DESCRIPTION:La Fira del Cargol de Sentmenat continua guanyant projecció més enllà del municipi. El mitjà Diari de Sabadell fa ressò de l’esdeveniment, destacant-lo a la seva agenda com una de les propostes rellevants del Vallès.

URI:https://www.sentmenat.cat/actualitat/noticies/el-diari-de-sabadell-fa-resso-de-la-fira-del-cargol-de-sentmenat.html
CLASS:PUBLIC
END:VEVENT
END:VCALENDAR
