BEGIN:VCALENDAR
VERSION:2.0
CALSCALE:GREGORIAN
PRODID:-//Diputació de Barcelona//DibaCMS//EN
BEGIN:VEVENT
UID:21681
DTSTAMP:20260420T122558
DTSTART:20260416T000000
DTEND:20260416T000000
SUMMARY:Setmana dels amics i les amigues del CEMusical
LOCATION:
METHOD:PUBLISH
X-WR-CALNAME:sentmenat@sentmenat.cat
X-WR-TIMEZONE:Europe/Madrid
DESCRIPTION:La Setmana dels amics i les amigues és una iniciativa especial del CEMusical que convida tots els alumnes d’instrument a portar un amic o una amiga a la seva classe. Durant aquests dies, les aules s’omplen de noves cares, curiositat i il·lusió per descobrir el món de la música des de dins.

URI:https://www.sentmenat.cat/actualitat/agenda/setmana-dels-amics-i-les-amigues-del-cemusical.html
CLASS:PUBLIC
END:VEVENT
END:VCALENDAR
