BEGIN:VCALENDAR
VERSION:2.0
CALSCALE:GREGORIAN
PRODID:-//Diputació de Barcelona//DibaCMS//EN
BEGIN:VEVENT
UID:21675
DTSTAMP:20260421T104624
DTSTART:20260415T000000
DTEND:20260419T113000
SUMMARY:Mostra de Formatges Cal Vivet
LOCATION:
METHOD:PUBLISH
X-WR-CALNAME:sentmenat@sentmenat.cat
X-WR-TIMEZONE:Europe/Madrid
DESCRIPTION:A càrrec de Cal Vivet

URI:https://www.sentmenat.cat/actualitat/agenda/mostra-de-formatges-cal-vivet.html
CLASS:PUBLIC
END:VEVENT
END:VCALENDAR
