BEGIN:VCALENDAR
VERSION:2.0
CALSCALE:GREGORIAN
PRODID:-//Diputació de Barcelona//DibaCMS//EN
BEGIN:VEVENT
UID:21667
DTSTAMP:20260419T170147
DTSTART:20260418T120000
DTEND:20260418T130000
SUMMARY:Inauguració Institucional de la Fira amb l’acompanyament del Cargol Tafaner
LOCATION:Passatge de les Escoles s/n  08181 Sentmenat
METHOD:PUBLISH
X-WR-CALNAME:sentmenat@sentmenat.cat
X-WR-TIMEZONE:Europe/Madrid
DESCRIPTION:Org. Ajuntament de Sentmenat

URI:https://www.sentmenat.cat/actualitat/agenda/inauguracio-institucional-de-la-fira-amb-lacompanyament-del-cargol-tafaner.html
CLASS:PUBLIC
END:VEVENT
END:VCALENDAR
