BEGIN:VCALENDAR
VERSION:2.0
CALSCALE:GREGORIAN
PRODID:-//Diputació de Barcelona//DibaCMS//EN
BEGIN:VEVENT
UID:21604
DTSTAMP:20260424T121901
DTSTART:20260309T090000
DTEND:20270309T000000
SUMMARY:Gran participació al Sopar de Dones per commemorar el 8M
LOCATION:
METHOD:PUBLISH
X-WR-CALNAME:sentmenat@sentmenat.cat
X-WR-TIMEZONE:Europe/Madrid
DESCRIPTION:Dissabte 7 de març es va celebrar el Sopar de Dones del municipi amb motiu de la commemoració del 8 de març, Dia Internacional de les Dones.

URI:https://www.sentmenat.cat/actualitat/noticies/gran-participacio-al-sopar-de-dones-per-commemorar-el-8m.html
CLASS:PUBLIC
END:VEVENT
END:VCALENDAR
