BEGIN:VCALENDAR
VERSION:2.0
CALSCALE:GREGORIAN
PRODID:-//Diputació de Barcelona//DibaCMS//EN
BEGIN:VEVENT
UID:21603
DTSTAMP:20260424T135103
DTSTART:20260309T000000
DTEND:20270309T000000
SUMMARY:El II Open de la Dona Sentmenat tanca una edició d’èxit al Pavelló Tèxtil Besòs
LOCATION:
METHOD:PUBLISH
X-WR-CALNAME:sentmenat@sentmenat.cat
X-WR-TIMEZONE:Europe/Madrid
DESCRIPTION:
a {
    text-decoration: none;
    color: #464feb;
}
tr th, tr td {
    border: 1px solid #e6e6e6;
}
tr th {
    background-color: #f5f5f5;
}



Aquest 7 de març, el Pavelló Tèxtil Besòs va acollir el II Open de la Dona Sentmenat, organitzat pel CTT Sentmenat, en una jornada dedicada a impulsar i visibilitzar el tennis taula femení al municipi.

URI:https://www.sentmenat.cat/actualitat/noticies/el-ii-open-de-la-dona-sentmenat-tanca-una-edicio-dexit-al-pavello-textil-besos.html
CLASS:PUBLIC
END:VEVENT
END:VCALENDAR
