BEGIN:VCALENDAR
VERSION:2.0
CALSCALE:GREGORIAN
PRODID:-//Diputació de Barcelona//DibaCMS//EN
BEGIN:VEVENT
UID:21591
DTSTAMP:20260421T094345
DTSTART:20260305T000000
DTEND:20270305T000000
SUMMARY:Obertura de la convocatòria del Bo Lloguer Jove 2026 per a persones de fins a 35 anys
LOCATION:
METHOD:PUBLISH
X-WR-CALNAME:sentmenat@sentmenat.cat
X-WR-TIMEZONE:Europe/Madrid
DESCRIPTION:La convocatòria de l’ajut al lloguer per a persones joves, coneguda com a Bo Lloguer Jove, s’obrirà el pròxim 9 de març de 2026 a les 09:00:00 hores i finalitzarà el 13 de març de 2026 a les 14:00:00 hores, ambdós dies inclosos.

URI:https://www.sentmenat.cat/actualitat/noticies/obertura-de-la-convocatoria-del-bo-lloguer-jove-2026-per-a-persones-de-fins-a-35-anys.html
CLASS:PUBLIC
END:VEVENT
END:VCALENDAR
