BEGIN:VCALENDAR
VERSION:2.0
CALSCALE:GREGORIAN
PRODID:-//Diputació de Barcelona//DibaCMS//EN
BEGIN:VEVENT
UID:21589
DTSTAMP:20260421T105926
DTSTART:20260303T000000
DTEND:20270303T000000
SUMMARY:Sentmenat celebra amb èxit una nova edició de la Festa dels Tres Tombs
LOCATION:
METHOD:PUBLISH
X-WR-CALNAME:sentmenat@sentmenat.cat
X-WR-TIMEZONE:Europe/Madrid
DESCRIPTION:Sentmenat ha viscut aquest diumenge 1 de març una nova edició de la Festa dels Tres Tombs, organitzada per l’Associació de Sant Antoni Abat amb la col·laboració de l’Ajuntament de Sentmenat. 

URI:https://www.sentmenat.cat/actualitat/noticies/sentmenat-celebra-amb-exit-una-nova-edicio-de-la-festa-dels-tres-tombs.html
CLASS:PUBLIC
END:VEVENT
END:VCALENDAR
