BEGIN:VCALENDAR
VERSION:2.0
CALSCALE:GREGORIAN
PRODID:-//Diputació de Barcelona//DibaCMS//EN
BEGIN:VEVENT
UID:21588
DTSTAMP:20260424T175029
DTSTART:20260418T000000
DTEND:20260419T000000
SUMMARY:La XIV Fira del Cargol se celebrarà els dies 18 i 19 d’abril de 2026
LOCATION:
METHOD:PUBLISH
X-WR-CALNAME:sentmenat@sentmenat.cat
X-WR-TIMEZONE:Europe/Madrid
DESCRIPTION:Sentmenat acollirà els dies 18 i 19 d’abril de 2026 la XIV Fira del Cargol, una  fira que combina restauració, alimentació i el comerç local.

URI:https://www.sentmenat.cat/actualitat/agenda/21588-la-xiv-fira-del-cargol-se-celebrara-els-dies-18-i-19-dabril-de-2026.html
CLASS:PUBLIC
END:VEVENT
END:VCALENDAR
