BEGIN:VCALENDAR
VERSION:2.0
CALSCALE:GREGORIAN
PRODID:-//Diputació de Barcelona//DibaCMS//EN
BEGIN:VEVENT
UID:21587
DTSTAMP:20260421T081437
DTSTART:20260303T150000
DTEND:20270303T000000
SUMMARY:Montaekwondo suma un or i un bronze al XXVI Open Internacional Jordan FAMC
LOCATION:
METHOD:PUBLISH
X-WR-CALNAME:sentmenat@sentmenat.cat
X-WR-TIMEZONE:Europe/Madrid
DESCRIPTION:El XXVI Open Internacional Jordan FAMC ha reunit més de 350 competidors procedents d’Itàlia, França, Romania, Irlanda, Anglaterra, Jordània, Marroc i Luxemburg, així com representació nacional de Balears, Aragó, Catalunya i la Comunitat Valenciana.

URI:https://www.sentmenat.cat/actualitat/noticies/montaekwondo-suma-un-or-i-un-bronze-al-xxvi-open-internacional-jordan-famc.html
CLASS:PUBLIC
END:VEVENT
END:VCALENDAR
