BEGIN:VCALENDAR
VERSION:2.0
CALSCALE:GREGORIAN
PRODID:-//Diputació de Barcelona//DibaCMS//EN
BEGIN:VEVENT
UID:21559
DTSTAMP:20260421T123930
DTSTART:20260225T000000
DTEND:20270225T000000
SUMMARY:Tot el que fem des de la Regidoria d’Educació
LOCATION:
METHOD:PUBLISH
X-WR-CALNAME:sentmenat@sentmenat.cat
X-WR-TIMEZONE:Europe/Madrid
DESCRIPTION:La Regidoria d’Educació continua treballant perquè l’educació vagi més enllà de l’aula, amb accions que acompanyen els centres educatius, donen suport a les famílies i promouen oportunitats d’aprenentatge, convivència i participació per a infants i joves del municipi.

URI:https://www.sentmenat.cat/actualitat/noticies/tot-el-que-fem-des-de-la-regidoria-deducacio.html
CLASS:PUBLIC
END:VEVENT
END:VCALENDAR
