BEGIN:VCALENDAR
VERSION:2.0
CALSCALE:GREGORIAN
PRODID:-//Diputació de Barcelona//DibaCMS//EN
BEGIN:VEVENT
UID:21558
DTSTAMP:20260420T120430
DTSTART:20260224T130000
DTEND:20270224T000000
SUMMARY:Sentmenat celebra el 99è aniversari dels Tres Tombs amb una jornada plena de tradició i cultura popular
LOCATION:
METHOD:PUBLISH
X-WR-CALNAME:sentmenat@sentmenat.cat
X-WR-TIMEZONE:Europe/Madrid
DESCRIPTION:Sentmenat es prepara per viure el 99è aniversari de la Festa de Sant Antoni Abat – Els Tres Tombs a Sentmenat el pròxim diumenge 1 de març.

URI:https://www.sentmenat.cat/actualitat/noticies/sentmenat-celebra-el-99e-aniversari-dels-tres-tombs-amb-una-jornada-plena-de-tradicio-i-cultura-popular.html
CLASS:PUBLIC
END:VEVENT
END:VCALENDAR
