BEGIN:VCALENDAR
VERSION:2.0
CALSCALE:GREGORIAN
PRODID:-//Diputació de Barcelona//DibaCMS//EN
BEGIN:VEVENT
UID:21539
DTSTAMP:20260420T135036
DTSTART:20260313T160000
DTEND:20260313T200000
SUMMARY:Oca feminista i taller de xapes
LOCATION:
METHOD:PUBLISH
X-WR-CALNAME:sentmenat@sentmenat.cat
X-WR-TIMEZONE:Europe/Madrid
DESCRIPTION:Vine a gaudir d'activitats com l'Oca feminista i un taller de xapes divendres 13 de març de 16:00h a les 20:00h.

URI:https://www.sentmenat.cat/actualitat/agenda/oca-feminista-i-taller-de-xapes.html
CLASS:PUBLIC
END:VEVENT
END:VCALENDAR
