BEGIN:VCALENDAR
VERSION:2.0
CALSCALE:GREGORIAN
PRODID:-//Diputació de Barcelona//DibaCMS//EN
BEGIN:VEVENT
UID:21520
DTSTAMP:20260420T121840
DTSTART:20260306T000000
DTEND:20260307T000000
SUMMARY:Dinàmica sobre desigualtats i espai jove temàtic
LOCATION:Nau de Can Valls 08181 Sentmenat
METHOD:PUBLISH
X-WR-CALNAME:sentmenat@sentmenat.cat
X-WR-TIMEZONE:Europe/Madrid
DESCRIPTION:El 6 de març, assisteix a la dinàmica conjunta per treballar les desigualtats de gènere, al Casal de Joves. La jornada inclourà un espai amb racons temàtics dedicats a l’art, la música, la ciència i l’esport, amb activitats participatives i referents femenins contemporanis.

URI:https://www.sentmenat.cat/actualitat/agenda/dinamica-sobre-desigualtats-i-espai-jove-tematic.html
CLASS:PUBLIC
END:VEVENT
END:VCALENDAR
