BEGIN:VCALENDAR
VERSION:2.0
CALSCALE:GREGORIAN
PRODID:-//Diputació de Barcelona//DibaCMS//EN
BEGIN:VEVENT
UID:21516
DTSTAMP:20260421T192333
DTSTART:20260211T000000
DTEND:20270211T000000
SUMMARY:Joan Castaño, convocat amb la Selecció Catalana Mini U12
LOCATION:
METHOD:PUBLISH
X-WR-CALNAME:sentmenat@sentmenat.cat
X-WR-TIMEZONE:Europe/Madrid
DESCRIPTION:Sentmenat celebra una nova fita esportiva amb la selecció del jove jugador Joan Castaño amb la Selecció Catalana Mini U12. El sentmenatenc formarà part dels quinze jugadors convocats per disputar el Campionat d’Espanya Mini 2026. 

URI:https://www.sentmenat.cat/actualitat/noticies/joan-castano-convocat-amb-la-seleccio-catalana-mini-u12.html
CLASS:PUBLIC
END:VEVENT
END:VCALENDAR
