BEGIN:VCALENDAR
VERSION:2.0
CALSCALE:GREGORIAN
PRODID:-//Diputació de Barcelona//DibaCMS//EN
BEGIN:VEVENT
UID:21510
DTSTAMP:20260421T211542
DTSTART:20260209T130000
DTEND:20270209T000000
SUMMARY:Els centres d’educació infantil i primària de Sentmenat organitzen jornades de portes obertes per al curs 2026-2027
LOCATION:
METHOD:PUBLISH
X-WR-CALNAME:sentmenat@sentmenat.cat
X-WR-TIMEZONE:Europe/Madrid
DESCRIPTION:Aquestes jornades permetran a les famílies visitar els centres, conèixer els equips docents i obtenir informació detallada sobre el funcionament i el projecte educatiu de cada escola.

URI:https://www.sentmenat.cat/actualitat/noticies/els-centres-deducacio-infantil-i-primaria-de-sentmenat-organitzen-jornades-de-portes-obertes-per-al-curs-2026-2027.html
CLASS:PUBLIC
END:VEVENT
END:VCALENDAR
