BEGIN:VCALENDAR
VERSION:2.0
CALSCALE:GREGORIAN
PRODID:-//Diputació de Barcelona//DibaCMS//EN
BEGIN:VEVENT
UID:21504
DTSTAMP:20260421T225035
DTSTART:20260205T000000
DTEND:20270205T000000
SUMMARY:Reforç del servei d’autobús de la línia E10 entre Sentmenat i Barcelona a partir del 2 de febrer
LOCATION:
METHOD:PUBLISH
X-WR-CALNAME:sentmenat@sentmenat.cat
X-WR-TIMEZONE:Europe/Madrid
DESCRIPTION:A partir del dia 2 de febrer, la línia d’autobús E10 que connecta Sentmenat amb Barcelona ha reforçat el seu horari i la freqüència de pas amb l’objectiu de millorar el servei i donar resposta a l’augment de la demanda de mobilitat dels veïns i veïnes del municipi.

URI:https://www.sentmenat.cat/actualitat/noticies/reforc-del-servei-dautobus-de-la-linia-e10-entre-sentmenat-i-barcelona-a-partir-del-2-de-febrer.html
CLASS:PUBLIC
END:VEVENT
END:VCALENDAR
