BEGIN:VCALENDAR
VERSION:2.0
CALSCALE:GREGORIAN
PRODID:-//Diputació de Barcelona//DibaCMS//EN
BEGIN:VEVENT
UID:21481
DTSTAMP:20260422T121024
DTSTART:20260114T120000
DTEND:20270114T000000
SUMMARY:L’Ajuntament de Sentmenat renova cinc parcs infantils per millorar la qualitat, la seguretat i el joc compartit
LOCATION:
METHOD:PUBLISH
X-WR-CALNAME:sentmenat@sentmenat.cat
X-WR-TIMEZONE:Europe/Madrid
DESCRIPTION:L’Ajuntament de Sentmenat ha finalitzat la remodelació de cinc parcs infantils del municipi: el parc de l’Era del Castell, el parc de la Riera, el parc del Patufet, el parc de la Caputxeta Vermella i el parc dels Tres Porquets. Aquesta actuació forma part del compromís municipal per millorar els espais públics destinats a la infància, fent-los més segurs, atractius i adequats per al joc i la convivència.
 

URI:https://www.sentmenat.cat/actualitat/noticies/lajuntament-de-sentmenat-renova-cinc-parcs-infantils-per-millorar-la-qualitat-la-seguretat-i-el-joc-compartit.html
CLASS:PUBLIC
END:VEVENT
END:VCALENDAR
