BEGIN:VCALENDAR
VERSION:2.0
CALSCALE:GREGORIAN
PRODID:-//Diputació de Barcelona//DibaCMS//EN
BEGIN:VEVENT
UID:21480
DTSTAMP:20260422T061636
DTSTART:20260114T000000
DTEND:20270114T000000
SUMMARY:L’alumnat de 3r d’ESO de l’Institut de Sentmenat visita l’Ajuntament
LOCATION:
METHOD:PUBLISH
X-WR-CALNAME:sentmenat@sentmenat.cat
X-WR-TIMEZONE:Europe/Madrid
DESCRIPTION:Els i les alumnes de 3r d’ESO de l’Institut de Sentmenat han visitat l’Ajuntament i la sala de plens amb l’objectiu de conèixer de primera mà el funcionament de l’administració municipal.

URI:https://www.sentmenat.cat/actualitat/noticies/lalumnat-de-3r-deso-de-linstitut-de-sentmenat-visita-lajuntament.html
CLASS:PUBLIC
END:VEVENT
END:VCALENDAR
