BEGIN:VCALENDAR
VERSION:2.0
CALSCALE:GREGORIAN
PRODID:-//Diputació de Barcelona//DibaCMS//EN
BEGIN:VEVENT
UID:21479
DTSTAMP:20260422T063151
DTSTART:20260113T000000
DTEND:20270113T000000
SUMMARY:S'obre la presentació de candidatures per lliure per a la 2a Nit de l’Esport
LOCATION:
METHOD:PUBLISH
X-WR-CALNAME:sentmenat@sentmenat.cat
X-WR-TIMEZONE:Europe/Madrid
DESCRIPTION:L’Ajuntament de Sentmenat informa la ciutadania que ja es poden presentar candidatures per lliure, és a dir, fora de les entitats esportives, per optar als reconeixements de la 2a edició de la Nit de l’Esport de Sentmenat, que se celebrarà el proper 29 de maig.

URI:https://www.sentmenat.cat/actualitat/noticies/sobre-la-presentacio-de-candidatures-per-lliure-per-a-la-2a-nit-de-lesport.html
CLASS:PUBLIC
END:VEVENT
END:VCALENDAR
