BEGIN:VCALENDAR
VERSION:2.0
CALSCALE:GREGORIAN
PRODID:-//Diputació de Barcelona//DibaCMS//EN
BEGIN:VEVENT
UID:21478
DTSTAMP:20260422T062743
DTSTART:20260113T000000
DTEND:20270113T000000
SUMMARY:Sentmenat, amb la convivència i els valors democràtics
LOCATION:
METHOD:PUBLISH
X-WR-CALNAME:sentmenat@sentmenat.cat
X-WR-TIMEZONE:Europe/Madrid
DESCRIPTION:Davant els fets d’aquest cap de setmana a Sentmenat, relacionats amb la celebració d’un acte promogut per un grup d’extrema dreta i també els incidents posteriors, volem expressar el nostre lament pels episodis de tensió i per les persones que van resultar ferides, així com el nostre desig d’una ràpida i plena recuperació.

URI:https://www.sentmenat.cat/actualitat/noticies/sentmenat-amb-la-convivencia-i-els-valors-democratics.html
CLASS:PUBLIC
END:VEVENT
END:VCALENDAR
