BEGIN:VCALENDAR
VERSION:2.0
CALSCALE:GREGORIAN
PRODID:-//Diputació de Barcelona//DibaCMS//EN
BEGIN:VEVENT
UID:21475
DTSTAMP:20260422T092555
DTSTART:20260107T000000
DTEND:20270107T000000
SUMMARY:La Generalitat adquireix els habitatges de protecció oficial de Can Perich i Can Vilar i garanteix la continuïtat residencial a Sentmenat
LOCATION:
METHOD:PUBLISH
X-WR-CALNAME:sentmenat@sentmenat.cat
X-WR-TIMEZONE:Europe/Madrid
DESCRIPTION:L’Ajuntament de Sentmenat i la Generalitat de Catalunya han anunciat una solució definitiva a la greu problemàtica d’habitatge que afectava el municipi, derivada del pas a règim lliure de les dues úniques promocions d’habitatge de protecció oficial existents: Can Perich i Can Vilar.

URI:https://www.sentmenat.cat/actualitat/noticies/la-generalitat-adquireix-els-habitatges-de-proteccio-oficial-de-can-perich-i-can-vilar-i-garanteix-la-continuitat-residencial-a-sentmenat.html
CLASS:PUBLIC
END:VEVENT
END:VCALENDAR
