BEGIN:VCALENDAR
VERSION:2.0
CALSCALE:GREGORIAN
PRODID:-//Diputació de Barcelona//DibaCMS//EN
BEGIN:VEVENT
UID:21458
DTSTAMP:20260422T140637
DTSTART:20251205T120000
DTEND:20261204T000000
SUMMARY:Ja està disponible en format digital el nou Butlletí Municipal de Sentmenat
LOCATION:
METHOD:PUBLISH
X-WR-CALNAME:sentmenat@sentmenat.cat
X-WR-TIMEZONE:Europe/Madrid
DESCRIPTION:L’Ajuntament de Sentmenat informa que ja es troba disponible en format digital el nou Butlletí Municipal, accessible des del web corporatiu. Aquesta nova edició recull les principals actuacions municipals, les novetats en serveis i projectes, així com informació d’interès per a la ciutadania.

URI:https://www.sentmenat.cat/actualitat/noticies/ja-esta-disponible-en-format-digital-el-nou-butlleti-municipal-de-sentmenat.html
CLASS:PUBLIC
END:VEVENT
END:VCALENDAR
