BEGIN:VCALENDAR
VERSION:2.0
CALSCALE:GREGORIAN
PRODID:-//Diputació de Barcelona//DibaCMS//EN
BEGIN:VEVENT
UID:21429
DTSTAMP:20260422T190446
DTSTART:20251125T170000
DTEND:20261125T000000
SUMMARY:L'Ajuntament comença a treballar per tenir el primer Pla d'Igualtat Intern
LOCATION:
METHOD:PUBLISH
X-WR-CALNAME:sentmenat@sentmenat.cat
X-WR-TIMEZONE:Europe/Madrid
DESCRIPTION:“El dret fonamental a la igualtat de dones i homes constitueix un valor cabdal per a la democràcia i és una necessitat essencial en una societat democràtica moderna que vol eradicar el sistema patriarcal androcèntric i sexista. A fi que es compleixi plenament aquest dret, no només ha d'ésser reconegut legalment, sinó que, a més, s’ha d’exercir d'una manera efectiva implicant-hi tots els aspectes de la vida: polítics, econòmics, socials i culturals”, Preàmbul de la Llei 17/2015 d’igualtat efectiva entre homes i dones. 

URI:https://www.sentmenat.cat/actualitat/noticies/lajuntament-comenca-a-treballar-per-tenir-el-primer-pla-digualtat-intern.html
CLASS:PUBLIC
END:VEVENT
END:VCALENDAR
