BEGIN:VCALENDAR
VERSION:2.0
CALSCALE:GREGORIAN
PRODID:-//Diputació de Barcelona//DibaCMS//EN
BEGIN:VEVENT
UID:21427
DTSTAMP:20260422T191046
DTSTART:20251127T090000
DTEND:20261125T000000
SUMMARY:Inici de l’enderroc de la piscina municipal per avançar cap a un nou equipament més modern i adaptat
LOCATION:
METHOD:PUBLISH
X-WR-CALNAME:sentmenat@sentmenat.cat
X-WR-TIMEZONE:Europe/Madrid
DESCRIPTION:El passat 25 de novembre van començar els treballs d’enderroc de la piscina municipal de Sentmenat, un espai que durant dècades ha estat punt de trobada, convivència i lleure per a centenars de veïns i veïnes. L’inici d’aquest procés representa un pas important en la transformació de l’equipament per fer possible la construcció de la nova piscina municipal.

URI:https://www.sentmenat.cat/actualitat/noticies/inici-de-lenderroc-de-la-piscina-municipal-per-avancar-cap-a-un-nou-equipament-mes-modern-i-adaptat.html
CLASS:PUBLIC
END:VEVENT
END:VCALENDAR
