BEGIN:VCALENDAR
VERSION:2.0
CALSCALE:GREGORIAN
PRODID:-//Diputació de Barcelona//DibaCMS//EN
BEGIN:VEVENT
UID:21426
DTSTAMP:20260422T190236
DTSTART:20251126T150000
DTEND:20261125T000000
SUMMARY:Sentmenat reconeix la trajectòria i el servei públic de quatre treballadors municipals
LOCATION:
METHOD:PUBLISH
X-WR-CALNAME:sentmenat@sentmenat.cat
X-WR-TIMEZONE:Europe/Madrid
DESCRIPTION:L’Ajuntament de Sentmenat ha celebrat aquest matí un acte d’agraïment i reconeixement a Herminia Perales, Joaquim Vico, Marta Costa i Juan Ramón Rosal, quatre professionals que al llarg dels anys han demostrat una dedicació exemplar, un alt compromís amb el servei públic i una estima profunda pel municipi.

URI:https://www.sentmenat.cat/actualitat/noticies/sentmenat-reconeix-la-trajectoria-i-el-servei-public-de-quatre-treballadors-municipals.html
CLASS:PUBLIC
END:VEVENT
END:VCALENDAR
