BEGIN:VCALENDAR
VERSION:2.0
CALSCALE:GREGORIAN
PRODID:-//Diputació de Barcelona//DibaCMS//EN
BEGIN:VEVENT
UID:21425
DTSTAMP:20260422T191733
DTSTART:20251124T150000
DTEND:20261124T000000
SUMMARY:Sentmenat impulsa una jornada per combatre l’edatisme i fomentar l’envelliment actiu
LOCATION:
METHOD:PUBLISH
X-WR-CALNAME:sentmenat@sentmenat.cat
X-WR-TIMEZONE:Europe/Madrid
DESCRIPTION:Amb l’objectiu de reduir l’edatisme —la discriminació envers les persones pel simple fet de ser grans— l’Ajuntament de Sentmenat ha organitzat una jornada plena d’activitats per potenciar la salut, la socialització i l’envelliment actiu de la Gent Gran del municipi.

URI:https://www.sentmenat.cat/actualitat/noticies/sentmenat-impulsa-una-jornada-per-combatre-ledatisme-i-fomentar-lenvelliment-actiu.html
CLASS:PUBLIC
END:VEVENT
END:VCALENDAR
