BEGIN:VCALENDAR
VERSION:2.0
CALSCALE:GREGORIAN
PRODID:-//Diputació de Barcelona//DibaCMS//EN
BEGIN:VEVENT
UID:21424
DTSTAMP:20260422T203854
DTSTART:20251124T000000
DTEND:20261124T000000
SUMMARY:Resultats de la 39a Pujada i baixada a Guanta
LOCATION:
METHOD:PUBLISH
X-WR-CALNAME:sentmenat@sentmenat.cat
X-WR-TIMEZONE:Europe/Madrid
DESCRIPTION:Jordi Cienfuentes i Mariona Avila han guanyat aquest matí els mítics 12km de la històrica pujada i baixada a Guanta, celebrada a Sentmenat a la seva 39a edició, organitzada per La Sansi i l’Ajuntament de Sentmenat, amb 650 inscrits, un 25% més que l’edició anterior. 
 

URI:https://www.sentmenat.cat/actualitat/noticies/resultats-de-la-39a-pujada-i-baixada-a-guanta.html
CLASS:PUBLIC
END:VEVENT
END:VCALENDAR
