BEGIN:VCALENDAR
VERSION:2.0
CALSCALE:GREGORIAN
PRODID:-//Diputació de Barcelona//DibaCMS//EN
BEGIN:VEVENT
UID:21423
DTSTAMP:20260422T204028
DTSTART:20251118T170000
DTEND:20261118T000000
SUMMARY:Tot a punt per l'arrencada de la 39ª edició de la Pujada i Baixada a Guanta del  proper diumenge dia 23 de novembre! 
LOCATION:
METHOD:PUBLISH
X-WR-CALNAME:sentmenat@sentmenat.cat
X-WR-TIMEZONE:Europe/Madrid
DESCRIPTION:La prova començarà a les 10h del matí amb les curses infantils i continuarà fins a 10:30h, amb l’inici de la ja clàssica distància de 12,3km i d’una cursa de 6km. La recollida del dorsal i la samarreta s’efectuarà al Poliesportiu 1r de maig, al costat de la sortida i enfront de l’Ajuntament de Sentmenat, el mateix diumenge entre 8h i 9:30h. 

URI:https://www.sentmenat.cat/actualitat/noticies/tot-a-punt-per-larrencada-de-la-39a-edicio-de-la-pujada-i-baixada-a-guanta-del-proper-diumenge-dia-23-de-novembre-.html
CLASS:PUBLIC
END:VEVENT
END:VCALENDAR
