BEGIN:VCALENDAR
VERSION:2.0
CALSCALE:GREGORIAN
PRODID:-//Diputació de Barcelona//DibaCMS//EN
BEGIN:VEVENT
UID:21421
DTSTAMP:20260422T204717
DTSTART:20251118T090000
DTEND:20261117T000000
SUMMARY:Mon Taekwondo brilla al Campionat de Catalunya FAMC celebrat a Alella
LOCATION:
METHOD:PUBLISH
X-WR-CALNAME:sentmenat@sentmenat.cat
X-WR-TIMEZONE:Europe/Madrid
DESCRIPTION:El passat 26 d’octubre va tenir lloc el Campionat de Catalunya FAMC a la localitat d’Alella, una cita esportiva que va reunir clubs procedents de tot el territori català.

URI:https://www.sentmenat.cat/actualitat/noticies/mon-taekwondo-brilla-al-campionat-de-catalunya-famc-celebrat-a-alella.html
CLASS:PUBLIC
END:VEVENT
END:VCALENDAR
