BEGIN:VCALENDAR
VERSION:2.0
CALSCALE:GREGORIAN
PRODID:-//Diputació de Barcelona//DibaCMS//EN
BEGIN:VEVENT
UID:21420
DTSTAMP:20260422T222138
DTSTART:20251117T000000
DTEND:20261117T000000
SUMMARY:Sentmenat i Olvera celebren un agermanament per reconèixer els vincles entre les dues comunitats
LOCATION:
METHOD:PUBLISH
X-WR-CALNAME:sentmenat@sentmenat.cat
X-WR-TIMEZONE:Europe/Madrid
DESCRIPTION:L’Ajuntament de Sentmenat i el municipi d’Olvera (Cadis) han celebrat un agermanament que vol posar en valor la relació que uneix els dos pobles des de fa dècades. Actualment, una cinquantena d’olverenys i olverenyes viuen a Sentmenat.

URI:https://www.sentmenat.cat/actualitat/noticies/sentmenat-i-olvera-celebren-un-agermanament-per-reconeixer-els-vincles-entre-les-dues-comunitats.html
CLASS:PUBLIC
END:VEVENT
END:VCALENDAR
