BEGIN:VCALENDAR
VERSION:2.0
CALSCALE:GREGORIAN
PRODID:-//Diputació de Barcelona//DibaCMS//EN
BEGIN:VEVENT
UID:21418
DTSTAMP:20260422T221337
DTSTART:20251117T120000
DTEND:20261110T000000
SUMMARY:Sortida de la Gent Gran a Calaf i El Pastoret de la Segarra
LOCATION:
METHOD:PUBLISH
X-WR-CALNAME:sentmenat@sentmenat.cat
X-WR-TIMEZONE:Europe/Madrid
DESCRIPTION:Dissabte 15 de novembre va tenir lloc una sortida adreçada a persones a partir de 60 anys, organitzada per l’Esplai de la Gent Gran de Sentmenat. L’excursió va incloure una visita a les Botigues de Calaf i a les instal·lacions d’El Pastoret de la Segarra.

URI:https://www.sentmenat.cat/actualitat/noticies/sortida-de-la-gent-gran-a-calaf-i-el-pastoret-de-la-segarra.html
CLASS:PUBLIC
END:VEVENT
END:VCALENDAR
