BEGIN:VCALENDAR
VERSION:2.0
CALSCALE:GREGORIAN
PRODID:-//Diputació de Barcelona//DibaCMS//EN
BEGIN:VEVENT
UID:21417
DTSTAMP:20260422T222021
DTSTART:20251118T090000
DTEND:20261110T000000
SUMMARY:Esport, natura i motor: cap de setmana intens
LOCATION:
METHOD:PUBLISH
X-WR-CALNAME:sentmenat@sentmenat.cat
X-WR-TIMEZONE:Europe/Madrid
DESCRIPTION:Diumenge 16 de novembre, Sentmenat va viure un cap de setmana ple d’activitat

URI:https://www.sentmenat.cat/actualitat/noticies/esport-natura-i-motor-cap-de-setmana-intens.html
CLASS:PUBLIC
END:VEVENT
END:VCALENDAR
