BEGIN:VCALENDAR
VERSION:2.0
CALSCALE:GREGORIAN
PRODID:-//Diputació de Barcelona//DibaCMS//EN
BEGIN:VEVENT
UID:21378
DTSTAMP:20260423T051753
DTSTART:20251023T000000
DTEND:20261023T000000
SUMMARY:Aquí tens tota l'activitat esportiva que pots gaudir a Sentmenat
LOCATION:
METHOD:PUBLISH
X-WR-CALNAME:sentmenat@sentmenat.cat
X-WR-TIMEZONE:Europe/Madrid
DESCRIPTION:La Regidoria d’Esports ha presentat el nou catàleg “Estima l’Esport 2025”, que recull tota l’oferta d’activitats esportives de Sentmenat per al nou curs. Sota el lema “Estima l'esport a Sentmenat”, la iniciativa vol fomentar la pràctica esportiva com a eina de salut, benestar i convivència, posant en valor la tasca de les entitats locals i oferint opcions per a totes les edats i nivells.

URI:https://www.sentmenat.cat/actualitat/noticies/aqui-tens-tota-lactivitat-esportiva-que-pots-gaudir-a-sentmenat.html
CLASS:PUBLIC
END:VEVENT
END:VCALENDAR
