BEGIN:VCALENDAR
VERSION:2.0
CALSCALE:GREGORIAN
PRODID:-//Diputació de Barcelona//DibaCMS//EN
BEGIN:VEVENT
UID:21356
DTSTAMP:20260422T224707
DTSTART:20250930T000000
DTEND:20260930T000000
SUMMARY:El ple aprova la resolució d’al·legacions de la modificació puntual del PGO per tenir un espai comercial i pisos d’HPO al barri de Can Vilar
LOCATION:
METHOD:PUBLISH
X-WR-CALNAME:sentmenat@sentmenat.cat
X-WR-TIMEZONE:Europe/Madrid
DESCRIPTION:
URI:https://www.sentmenat.cat/actualitat/noticies/el-ple-aprova-la-resolucio-dallegacions-de-la-modificacio-puntual-del-pgo-per-tenir-un-espai-comercial-i-pisos-dhpo-al-barri-de-can-vilar.html
CLASS:PUBLIC
END:VEVENT
END:VCALENDAR
