BEGIN:VCALENDAR
VERSION:2.0
CALSCALE:GREGORIAN
PRODID:-//Diputació de Barcelona//DibaCMS//EN
BEGIN:VEVENT
UID:21336
DTSTAMP:20260422T193304
DTSTART:20250916T093000
DTEND:20260916T000000
SUMMARY:Termini per sol·licitar la subvenció Aprendre a nedar.
LOCATION:
METHOD:PUBLISH
X-WR-CALNAME:sentmenat@sentmenat.cat
X-WR-TIMEZONE:Europe/Madrid
DESCRIPTION:L'Aprendre a nedar és un projecte subvencionat que té com a finalitat  afavorir que les famílies i per tant els infants puguin gaudir de l’aprenentatge de nedar d’una manera generalitzada donat que s’entén el mateix com a servei fonamental i d’interès públic en el que tots els infants d’I5 tenen el mateix dret a participar sense establir diferències entre ells.

 

URI:https://www.sentmenat.cat/actualitat/noticies/termini-per-sollicitar-la-subvencio-aprendre-a-nedar.html
CLASS:PUBLIC
END:VEVENT
END:VCALENDAR
