BEGIN:VCALENDAR
VERSION:2.0
CALSCALE:GREGORIAN
PRODID:-//Diputació de Barcelona//DibaCMS//EN
BEGIN:VEVENT
UID:21291
DTSTAMP:20260422T221256
DTSTART:20250710T000000
DTEND:20260709T000000
SUMMARY:S’obre el termini per sol·licitar l’autorització per a participar a les Barraques de la Festa Major 2025
LOCATION:
METHOD:PUBLISH
X-WR-CALNAME:sentmenat@sentmenat.cat
X-WR-TIMEZONE:Europe/Madrid
DESCRIPTION:L’Ajuntament de Sentmenat informa que ja està obert el termini per a sol·licitar l’autorització per a la instal·lació de barraques durant la Festa Major 2025, que tindrà lloc els dies 5, 6 i 7 de setembre al recinte situat al pàrquing de l’Institut de Sentmenat.

URI:https://www.sentmenat.cat/actualitat/noticies/sobre-el-termini-per-sollicitar-lautoritzacio-per-a-participar-a-les-barraques-de-la-festa-major-2025.html
CLASS:PUBLIC
END:VEVENT
END:VCALENDAR
