BEGIN:VCALENDAR
VERSION:2.0
CALSCALE:GREGORIAN
PRODID:-//Diputació de Barcelona//DibaCMS//EN
BEGIN:VEVENT
UID:21290
DTSTAMP:20260422T204103
DTSTART:20250709T000000
DTEND:20260709T000000
SUMMARY:Can Vinyals celebra la Festa de Llums 2025 amb activitats per a totes les edats
LOCATION:
METHOD:PUBLISH
X-WR-CALNAME:sentmenat@sentmenat.cat
X-WR-TIMEZONE:Europe/Madrid
DESCRIPTION:El barri de Can Vinyals es prepara per viure un cap de setmana ple d’activitats familiars, música, espectacles i molta convivència veïnal.

URI:https://www.sentmenat.cat/actualitat/noticies/can-vinyals-celebra-la-festa-de-llums-2025-amb-activitats-per-a-totes-les-edats.html
CLASS:PUBLIC
END:VEVENT
END:VCALENDAR
