BEGIN:VCALENDAR
VERSION:2.0
CALSCALE:GREGORIAN
PRODID:-//Diputació de Barcelona//DibaCMS//EN
BEGIN:VEVENT
UID:20997
DTSTAMP:20260421T121510
DTSTART:20250130T000000
DTEND:20250201T160000
SUMMARY:Avís de batuda 1 de febrer
LOCATION:
METHOD:PUBLISH
X-WR-CALNAME:sentmenat@sentmenat.cat
X-WR-TIMEZONE:Europe/Madrid
DESCRIPTION:Es portarà a terme de 9 a 14 hores.

URI:https://www.sentmenat.cat/actualitat/noticies/avis-de-batuda-1-de-febrer.html
CLASS:PUBLIC
END:VEVENT
END:VCALENDAR
